BEGIN:VCALENDAR
PRODID:-//Events Calendar//iCal4j 1.0//EN
CALSCALE:GREGORIAN
BEGIN:VEVENT
DTSTAMP:20260421T105439Z
DTSTART:20240307T170000
DTEND:20240307T193000
SUMMARY:Orbitopatia tiroidea: meet the expert
DESCRIPTION:\nhttps://www.eoc.ch/media-e-news/eventi/congressi-simposi-conferenze/2024-orbitopatia-tiroidea.html
TZID:Europe/Rome
UID:20260421T105439Z-EOC@10.0.52.20
END:VEVENT
END:VCALENDAR
