BEGIN:VCALENDAR
PRODID:-//Events Calendar//iCal4j 1.0//EN
CALSCALE:GREGORIAN
BEGIN:VEVENT
DTSTAMP:20260420T133126Z
DTSTART:20250620T133000
DTEND:20250620T173000
SUMMARY:Festeggiamo insieme con l'ARTETERAPIA
DESCRIPTION:20 anni del Centro di Senologia della Svizzera Italiana (CSSI)\n20 anni di esperienza dalla prevenzione alla cura\n20 anni di presa a carico delle nostre pazienti\n\nhttps://www.eoc.ch/media-e-news/eventi/aperti-al-pubblico/2025/cssi-arteterapia.html
TZID:Europe/Rome
UID:20260420T133126Z-EOC@10.0.52.20
END:VEVENT
END:VCALENDAR
