BEGIN:VCALENDAR
PRODID:-//Events Calendar//iCal4j 1.0//EN
CALSCALE:GREGORIAN
BEGIN:VEVENT
DTSTAMP:20260422T214323Z
DTSTART:20240325T170000
DTEND:20240325T190000
SUMMARY:amacti - Learning from Swiss Anesthesia Closed Claim
DESCRIPTION:Sala Zwick\, Istituto Cardiocentro Ticino - EOC\, Lugano - Conferenza in italiano\nhttps://www.eoc.ch/media-e-news/eventi/congressi-simposi-conferenze/2024-amacti0.html
TZID:Europe/Rome
UID:20260422T214323Z-EOC@10.0.52.20
END:VEVENT
END:VCALENDAR
