BEGIN:VCALENDAR
PRODID:-//Events Calendar//iCal4j 1.0//EN
CALSCALE:GREGORIAN
BEGIN:VEVENT
DTSTAMP:20260423T183646Z
DTSTART:20240426T180000
DTEND:20240426T201500
SUMMARY:La salute cerebrale: Dialogo tra neuroscienze e filosofia
DESCRIPTION:\nhttps://www.eoc.ch/media-e-news/eventi/congressi-simposi-conferenze/2024-neurohumanities1.html
TZID:Europe/Rome
UID:20260423T183646Z-EOC@10.0.52.20
END:VEVENT
END:VCALENDAR
