BEGIN:VCALENDAR
PRODID:-//Events Calendar//iCal4j 1.0//EN
CALSCALE:GREGORIAN
BEGIN:VEVENT
DTSTAMP:20260420T123039Z
DTSTART:20260618T170000
DTEND:20260618T183000
SUMMARY:PROSPETTIVE TERAPEUTICHE MODERNE DELL’INSUFFICIENZA CARDIACA AVANZATA
DESCRIPTION:Eventi formativi dedicati ai medici di famiglia\, agli specialisti di medicina interna\, ai cardiologi del territorio\, agli assistenti in formazione\, al personale infermieristico e agli studenti di medicina.\nhttps://www.eoc.ch/media-e-news/eventi/corsi-e-formazione-continua/2026/cardiologia/ipomeriggi-23-01-30.html
TZID:Europe/Rome
UID:20260420T123039Z-EOC@10.0.52.20
END:VEVENT
END:VCALENDAR
