BEGIN:VCALENDAR
PRODID:-//Events Calendar//iCal4j 1.0//EN
CALSCALE:GREGORIAN
BEGIN:VEVENT
DTSTAMP:20260420T165448Z
DTSTART:20231026T103000
DTEND:20231026T170000
SUMMARY:8th Annual Swiss Psoriasis Day
DESCRIPTION:\n\nhttps://www.eoc.ch/media-e-news/eventi/congressi-simposi-conferenze/2023/Psoriasis_Day.html
TZID:Europe/Rome
UID:20260420T165448Z-EOC@10.0.52.20
END:VEVENT
END:VCALENDAR
