BEGIN:VCALENDAR
PRODID:-//Events Calendar//iCal4j 1.0//EN
CALSCALE:GREGORIAN
BEGIN:VEVENT
DTSTAMP:20260424T172031Z
DTSTART:20241009T104000
DTEND:20241011T104000
SUMMARY:Simposio Area Critica della Svizzera Italiana
DESCRIPTION:A seguito del grande successo ottenuto durante la prima edizione del Simposio di Area Critica della Svizzera Italiana dello scorso anno\, il Dipartimento di Area Critica dell’Ente Ospedaliero Cantonale (DACEOC) con oltre 900 collaboratori\, è particolarmente lieto di annunciare la 2a edizione. Quest’anno abbiamo ampliato l’offerta formativa a due giornate e mezzo: 9-10 e 11 ottobre 2024.\nhttps://www.eoc.ch/media-e-news/eventi/congressi-simposi-conferenze/2024-Simposio-area-critica-della-svizzera-italiana-.html
TZID:Europe/Rome
UID:20260424T172031Z-EOC@10.0.52.20
END:VEVENT
END:VCALENDAR
