BEGIN:VCALENDAR
PRODID:-//Events Calendar//iCal4j 1.0//EN
CALSCALE:GREGORIAN
BEGIN:VEVENT
DTSTAMP:20260422T184356Z
DTSTART:20250402T173000
DTEND:20250402T190000
SUMMARY:Disturbi d'ansia: dalla medicina cinese un aiuto per adulti e bambini
DESCRIPTION:\nhttps://www.eoc.ch/media-e-news/eventi/aperti-al-pubblico/2025/medicina-cinese-ansia.html
TZID:Europe/Rome
UID:20260422T184356Z-EOC@10.0.52.20
END:VEVENT
END:VCALENDAR
