BEGIN:VCALENDAR
PRODID:-//Events Calendar//iCal4j 1.0//EN
CALSCALE:GREGORIAN
BEGIN:VEVENT
DTSTAMP:20260420T133105Z
DTSTART:20240126T183000
DTEND:20240126T193000
SUMMARY:Evento benefico - Diventa un supereroe\, unisciti a spiderman!
DESCRIPTION:\nhttps://www.eoc.ch/media-e-news/eventi/aperti-al-pubblico/2024-fondazione-bambino-malato.html
TZID:Europe/Rome
UID:20260420T133105Z-EOC@10.0.52.20
END:VEVENT
END:VCALENDAR
