BEGIN:VCALENDAR
PRODID:-//Events Calendar//iCal4j 1.0//EN
CALSCALE:GREGORIAN
BEGIN:VEVENT
DTSTAMP:20260423T030843Z
DTSTART:20241128T133000
DTEND:20241128T173000
SUMMARY:Malattie infettive pediatriche: Svizzera e oltre
DESCRIPTION:Care/i Partecipanti\,\n\nè con grande piacere che vi invitiamo al tradizionale simposio di\npediatria dell’Istituto Pediatrico della Svizzera Italiana.\n“Malattie infettive pediatriche: Svizzera e oltre” è il titolo che abbiamo\nscelto. Cercheremo infatti di affrontare vari temi con l’obiettivo di\ndare una visione d’insieme sui diversi aspetti di questa specialità\,\ndalla diagnostica\, alla prevenzione e alla terapia\, concludendo con la\nmedicina di viaggio.\nRingrazio sin d’ora le relatrici che hanno accettato il nostro invito dandoci\nl’opportunità di creare un programma variegato e molto interessante\,\nche spero possa attirare la vostra attenzione.\nNell’attesa di incontrarvi numerosi vi salutiamo cordialmente.\n\nPD Dr. med. Lisa Kottanattu\nhttps://www.eoc.ch/media-e-news/eventi/corsi-e-formazione-continua/2024/pediatria/2024-11.html
TZID:Europe/Rome
UID:20260423T030843Z-EOC@10.0.52.20
END:VEVENT
END:VCALENDAR
