BEGIN:VCALENDAR
PRODID:-//Events Calendar//iCal4j 1.0//EN
CALSCALE:GREGORIAN
BEGIN:VEVENT
DTSTAMP:20260421T123509Z
DTSTART:20260521T173000
DTEND:20260521T190000
SUMMARY:Ascolta la Tua Salute: Un Viaggio nell'Otorinolaringoiatria
DESCRIPTION:Scopri come prenderti cura di naso\, orecchio\, gola e voce con gli specialisti EOC. Un evento pubblico ricco di consigli\, prevenzione e confronto diretto con i medici. Ti aspettiamo!\nhttps://www.eoc.ch/media-e-news/eventi/aperti-al-pubblico/2026/otorino.html
TZID:Europe/Rome
UID:20260421T123509Z-EOC@10.0.52.20
END:VEVENT
END:VCALENDAR
