BEGIN:VCALENDAR
PRODID:-//Events Calendar//iCal4j 1.0//EN
CALSCALE:GREGORIAN
BEGIN:VEVENT
DTSTAMP:20260421T134151Z
DTSTART:20260521T173000
DTEND:20260521T190000
SUMMARY:Event
DESCRIPTION:\nhttps://www.eoc.ch/media-e-news/eventi/aperti-al-pubblico/2026/otorino.html
TZID:Europe/Rome
UID:20260421T134151Z-EOC@10.0.52.20
END:VEVENT
END:VCALENDAR
