BEGIN:VCALENDAR
PRODID:-//Events Calendar//iCal4j 1.0//EN
CALSCALE:GREGORIAN
BEGIN:VEVENT
DTSTAMP:20260420T045332Z
DTSTART:20250903T123000
DTEND:20250903T133000
SUMMARY:IMPACT-CKD: Projected Burden of CKD in Europe
DESCRIPTION:\nhttps://www.eoc.ch/media-e-news/eventi/congressi-simposi-conferenze/2025/IMPACT-CKD--Projected-Burden-of-CKD-in-Europe.html
TZID:Europe/Rome
UID:20260420T045332Z-EOC@10.0.52.20
END:VEVENT
END:VCALENDAR
