BEGIN:VCALENDAR
PRODID:-//Events Calendar//iCal4j 1.0//EN
CALSCALE:GREGORIAN
BEGIN:VEVENT
DTSTAMP:20260421T012206Z
DTSTART:20250313T070000
DTEND:20250313T190000
SUMMARY:Giornata Mondiale del Rene
DESCRIPTION:La Giornata mondiale del Rene\, quest’anno celebrata il 13 marzo\, è l’occasione per sensibilizzare la popolazione sull’importanza dei nostri reni\, piccoli organi con numerose funzioni.\nhttps://www.eoc.ch/media-e-news/eventi/aperti-al-pubblico/2025/GM-rene2025.html
TZID:Europe/Rome
UID:20260421T012206Z-EOC@10.0.52.20
END:VEVENT
END:VCALENDAR
