BEGIN:VCALENDAR
PRODID:-//Events Calendar//iCal4j 1.0//EN
CALSCALE:GREGORIAN
BEGIN:VEVENT
DTSTAMP:20260420T194853Z
DTSTART:20241010T130000
DTEND:20241010T173000
SUMMARY:Nutrizione Peri-operatoria
DESCRIPTION:\nLe iscrizioni devono pervenire solo tramite il sito internet della SSNC\, www.geskes.ch cliccando al centro su “Kurse & Kongresse” e selezionando  il corso nell’agenda.\nVi ricordiamo inoltre di selezionare uno dei workshop proposti. \n\nVi aspettiamo numerosi. \n\nhttps://www.eoc.ch/media-e-news/eventi/congressi-simposi-conferenze/Nutrizione-Peri-operatoria.html
TZID:Europe/Rome
UID:20260420T194853Z-EOC@10.0.52.20
END:VEVENT
END:VCALENDAR
