BEGIN:VCALENDAR
PRODID:-//Events Calendar//iCal4j 1.0//EN
CALSCALE:GREGORIAN
BEGIN:VEVENT
DTSTAMP:20260422T033147Z
DTSTART:20260416T133000
DTEND:20260416T183000
SUMMARY:Simposio scientifico di Oftalmologia
DESCRIPTION:La Clinica di Oftalmologia INSI EOC e l'Istituto Pediatrico della Svizzera Italiana sono lieti di invitarvi al 𝐒𝐢𝐦𝐩𝐨𝐬𝐢𝐨 𝐬𝐜𝐢𝐞𝐧𝐭𝐢𝐟𝐢𝐜𝐨 𝐝𝐢 𝐎𝐟𝐭𝐚𝐥𝐦𝐨𝐥𝐨𝐠𝐢𝐚. \nhttps://www.eoc.ch/media-e-news/eventi/congressi-simposi-conferenze/2026/oftalmologiaped.html
TZID:Europe/Rome
UID:20260422T033147Z-EOC@10.0.52.20
END:VEVENT
END:VCALENDAR
