BEGIN:VCALENDAR
PRODID:-//Events Calendar//iCal4j 1.0//EN
CALSCALE:GREGORIAN
BEGIN:VEVENT
DTSTAMP:20260421T090915Z
DTSTART:20260121T143000
DTEND:20260121T170000
SUMMARY:Ortopedia oggi: tra evidenza e innovazione
DESCRIPTION:\nhttps://www.eoc.ch/media-e-news/eventi/congressi-simposi-conferenze/2026/ortopedia-oggi.html
TZID:Europe/Rome
UID:20260421T090915Z-EOC@10.0.52.20
END:VEVENT
END:VCALENDAR
