BEGIN:VCALENDAR
PRODID:-//Events Calendar//iCal4j 1.0//EN
CALSCALE:GREGORIAN
BEGIN:VEVENT
DTSTAMP:20260422T085511Z
DTSTART:20250918T093000
DTEND:20250918T120000
SUMMARY:Colazione con le consulenti allattamento
DESCRIPTION:Evento aperto alla popolazione. Colazione e gadget offerti.\n\nPresso Centro EOFORM\nVia A. Raggi 6\, 6500 Bellinzona\nhttps://www.eoc.ch/media-e-news/eventi/aperti-al-pubblico/2025/Colazione-con-le-consulenti-allattamento.html
TZID:Europe/Rome
UID:20260422T085511Z-EOC@10.0.52.20
END:VEVENT
END:VCALENDAR
