BEGIN:VCALENDAR
PRODID:-//Events Calendar//iCal4j 1.0//EN
CALSCALE:GREGORIAN
BEGIN:VEVENT
DTSTAMP:20260423T071927Z
DTSTART:20230601T080000
DTEND:20230602T180000
SUMMARY:ATCIP 2023
DESCRIPTION:Antimicrobial Therapy in Immunocompromised and Critically Ill Patients: Management and Perspectives. Hans-on approaches to the therapy of immunocompromised and critically ill patients\nhttps://www.eoc.ch/media-e-news/eventi/congressi-simposi-conferenze/2023/atcip-2023.html
TZID:Europe/Rome
UID:20260423T071927Z-EOC@10.0.52.20
END:VEVENT
END:VCALENDAR
