BEGIN:VCALENDAR
PRODID:-//Events Calendar//iCal4j 1.0//EN
CALSCALE:GREGORIAN
BEGIN:VEVENT
DTSTAMP:20260420T223206Z
DTSTART:20250527T183000
DTEND:20250527T200000
SUMMARY:Ipertrofia Benigna della Prostata (IBP) Terapie classiche e  Novità terapeutiche
DESCRIPTION:\nhttps://www.eoc.ch/media-e-news/eventi/aperti-al-pubblico/2025/Ipertrofia-Benigna-della-Prostata--IBP--Terapie-classiche-e--Novit--terapeutiche.html
TZID:Europe/Rome
UID:20260420T223206Z-EOC@10.0.52.20
END:VEVENT
END:VCALENDAR
