BEGIN:VCALENDAR
PRODID:-//Events Calendar//iCal4j 1.0//EN
CALSCALE:GREGORIAN
BEGIN:VEVENT
DTSTAMP:20260421T172246Z
DTSTART:20250522T180000
DTEND:20250522T200000
SUMMARY:Diventare genitori oggi: cosa può offrire la medicina della fertilità?
DESCRIPTION:Quali sono oggi le possibilità per chi desidera un figlio ma incontra difficoltà nel concepimento? Quali percorsi offre oggi la medicina della fertilità?\nhttps://www.eoc.ch/media-e-news/eventi/aperti-al-pubblico/2025/ODL-maternita.html
TZID:Europe/Rome
UID:20260421T172246Z-EOC@10.0.52.20
END:VEVENT
END:VCALENDAR
