BEGIN:VCALENDAR
PRODID:-//Events Calendar//iCal4j 1.0//EN
CALSCALE:GREGORIAN
BEGIN:VEVENT
DTSTAMP:20260421T055505Z
DTSTART:20240222T170000
DTEND:20240222T203000
SUMMARY:Il coinvolgimento attivo dei pazienti nella ricerca clinica in oncologia
DESCRIPTION:Forum dei pazienti\nhttps://www.eoc.ch/media-e-news/eventi/congressi-simposi-conferenze/2024-sakk.html
TZID:Europe/Rome
UID:20260421T055505Z-EOC@10.0.52.20
END:VEVENT
END:VCALENDAR
